BEGIN:VCALENDAR
PRODID:-//AT Content Types//AT Event//EN
VERSION:2.0
METHOD:PUBLISH
BEGIN:VEVENT
DTSTAMP:20260424T131746Z
CREATED:20140418T121820Z
UID:ATEvent-4afcbd9e10872c3fe985c1d8ee199807
LAST-MODIFIED:20140418T122045Z
SUMMARY:Bonhoeffer - Pásztor\, mártír\, próféta\, kém - könyvbemutató
DTSTART:20140425T153000Z
DTEND:20140425T160000Z
DESCRIPTION:Beszélgetés Dietrich Bonhoeffer életrajza kapcsán\, ak
 i a Hitler elleni összeesküvés fő alapja és mártírja volt.
LOCATION:Budapest
CATEGORIES:hír
CLASS:PUBLIC
END:VEVENT
END:VCALENDAR
