BEGIN:VCALENDAR
PRODID:-//AT Content Types//AT Event//EN
VERSION:1.0
BEGIN:VEVENT
DTSTART:20141216T160000Z
DTEND:20141216T172000Z
DCREATED:20141209T140152Z
UID:ATEvent-236e3dc38313ce0590eb0b51e1abd832
SEQUENCE:0
LAST-MODIFIED:20141209T140312Z
SUMMARY:Bodor Ádám Sinistra körzet
DESCRIPTION:Beszélgetnek\: Fenyő D. György\, Krusovszky Dénes\, M
 száros Márton és Visy Beatrix.
LOCATION:Budapest\, PIM
PRIORITY:3
TRANSP:0
END:VEVENT
END:VCALENDAR
