BEGIN:VCALENDAR
PRODID:-//AT Content Types//AT Event//EN
VERSION:2.0
METHOD:PUBLISH
BEGIN:VEVENT
DTSTAMP:20260426T000733Z
CREATED:20101203T140932Z
UID:ATEvent-8ac17180f3820e91679b59579e4aa9e0
LAST-MODIFIED:20101203T141217Z
SUMMARY:Beszélgetés a hajléktalanokért és a befogadó városokért
DTSTART:20101213T173000Z
DTEND:20101213T182500Z
LOCATION:Budapest
CATEGORIES:Budapest,hír
CLASS:PUBLIC
END:VEVENT
END:VCALENDAR
