BEGIN:VCALENDAR
PRODID:-//AT Content Types//AT Event//EN
VERSION:1.0
BEGIN:VEVENT
DTSTART:20130301T170000Z
DTEND:20130301T185000Z
DCREATED:20130125T135004Z
UID:ATEvent-fc4f0c547c91a42f7d7ba55b2d39a94f
SEQUENCE:0
LAST-MODIFIED:20130220T135103Z
SUMMARY:ELMARAD! Asztali beszélgetések... - JUHÁSZ FERENC és KONOK TAMÁS disputája
DESCRIPTION:Tisztelt Érdeklődők!\n\nJuhász Ferenc és Konok Tamás
  március 1-i disputája elmarad!\n\nReménység szerint az idei évbe
 n a disputát be tudjuk pótolni.\n\nMegértésüket kérjük.\nTiszte
 lettel\:\nAsztali Beszélgetések Kulturális Alapívány
LOCATION:Budapest\, PIM
PRIORITY:3
TRANSP:0
END:VEVENT
END:VCALENDAR
