BEGIN:VCALENDAR
PRODID:-//AT Content Types//AT Event//EN
VERSION:1.0
BEGIN:VEVENT
DTSTART:20111004T110000Z
DTEND:20111004T110000Z
DCREATED:20111004T120930Z
UID:ATEvent-6981e422e54d01712d50efedb37c292f
SEQUENCE:0
LAST-MODIFIED:20111016T152540Z
SUMMARY:Anna Margit és Ámos Imre - Válogatás a Levendel-gyűjteményből
DESCRIPTION:Kiscelli Múzeum\, oratórium\n2011. október 7. - novembe
 r 6. \n\nA kiállításhoz kapcsolódóan október 27-én Asztali besz
 élgetések... is lesz.\nDisputapartnerek\: György Péter\, Turai Hed
 vig és Csepregi András\nTéma\: Ámos Imre és Anna Margit a XX. sz
 zadban.
PRIORITY:3
TRANSP:0
END:VEVENT
END:VCALENDAR
