BEGIN:VCALENDAR
PRODID:-//AT Content Types//AT Event//EN
VERSION:2.0
METHOD:PUBLISH
BEGIN:VEVENT
DTSTAMP:20260424T050407Z
CREATED:20160517T145455Z
UID:ATEvent-369eb74afcda9099e1b729668bddc4f8
LAST-MODIFIED:20160517T145825Z
SUMMARY:Albánia és Koszovó kortárs művészete
DTSTART:20160715T080000Z
DTEND:20160911T160000Z
DESCRIPTION:Albánia és Koszovó erőteljes és izgalmas művészeti 
 pozíciói mutatkoznak be a Ludwig Múzeum kiállítóterében.
LOCATION:Budapest
CATEGORIES:Budapest,hír,kiállítás
CLASS:PUBLIC
END:VEVENT
END:VCALENDAR
