BEGIN:VCALENDAR
PRODID:-//AT Content Types//AT Event//EN
VERSION:1.0
BEGIN:VEVENT
DTSTART:20100731T140000Z
DTEND:20100731T160000Z
DCREATED:20100706T095623Z
UID:ATEvent-c2ba7a9835f8e3fe4b6fd4d30391563c
SEQUENCE:0
LAST-MODIFIED:20100910T143724Z
SUMMARY:Aknay János festőművész kiállításmegnyitója
DESCRIPTION:Az Asztali Beszélgetések Kulturális Alapítvány és a 
 Balatonboglári Evangélikus Egyházközség szeretettel meghívja jú
 lius 31-én 16 órai kezdettel nyíló Őrangyalok és hírvivők cím
 ű kiállítására.
LOCATION:Balatonboglár\, evangélikus templomtér
PRIORITY:3
TRANSP:0
END:VEVENT
END:VCALENDAR
