BEGIN:VCALENDAR
PRODID:-//AT Content Types//AT Event//EN
VERSION:2.0
METHOD:PUBLISH
BEGIN:VEVENT
DTSTAMP:20260426T040558Z
CREATED:20110614T180505Z
UID:ATEvent-59cde3ac35a3ac282c536b3d8cd1b1a6
LAST-MODIFIED:20110619T121151Z
SUMMARY:Aknay János Angyalok és szakrális terek című kiállítása
DTSTART:20110625T160000Z
DTEND:20110822T080000Z
DESCRIPTION:2011. június 25 - 2011. augusztus 22-ig Budapesten Aknay 
 János Kossuth- és Munkácsy-díjas festőművész legújabb szakrál
 is alkotásai.
LOCATION:Budapest
CATEGORIES:Budapest,hír,Asztali,kiállítás
CONTACT:Asztali Beszélgetések Kulturális Alapítvány\, asztali@yahoo.com
CLASS:PUBLIC
END:VEVENT
END:VCALENDAR
