BEGIN:VCALENDAR
PRODID:-//AT Content Types//AT Event//EN
VERSION:2.0
METHOD:PUBLISH
BEGIN:VEVENT
DTSTAMP:20260426T032615Z
CREATED:20161019T051326Z
UID:ATEvent-047ad2ca3746915e77260e9bfb212b19
LAST-MODIFIED:20161031T075028Z
SUMMARY:Akasztottak - Emlékkoncert Az 1956-os Forradalom Emlékére
DTSTART:20161104T180000Z
DTEND:20161104T190000Z
DESCRIPTION:Böröcz András installációja és Dés László zenemű
 ve a Magyar Nemzeti Galériában.
LOCATION:Budapest
CATEGORIES:Budapest,hír
CLASS:PUBLIC
END:VEVENT
END:VCALENDAR
