BEGIN:VCALENDAR
PRODID:-//AT Content Types//AT Event//EN
VERSION:2.0
METHOD:PUBLISH
BEGIN:VEVENT
DTSTAMP:20260424T035424Z
CREATED:20161118T074952Z
UID:ATEvent-c7872408f09cccb38946704e5c625b7c
LAST-MODIFIED:20161118T075259Z
SUMMARY:Ady-Ã¼nnep a kÃ¶ltÅ‘ szÃ¼letÃ©sÃ©nek 139. Ã©vfordulÃ³jÃ¡n
DTSTART:20161122T170000Z
DTEND:20161122T190000Z
DESCRIPTION:A Medve SzÃ­npad Ã©s a Magyar VirtuÃ³zok mÅ±sora hÃ¡rom rÃ
 ©szben. A Medve SzÃ­npad Ã©s a Magyar VirtuÃ³zok mÅ±sora hÃ¡rom rÃ©szb
 en. KÃ¶zremÅ±kÃ¶dnek irodalmÃ¡rok\, meghÃ­vott vendÃ©gek\, tÃ¶bbek kÃ¶
 zÃ¶tt dr. SzÃ¶rÃ©nyi LÃ¡szlÃ³ irodalomtÃ¶rtÃ©nÃ©sz Ã©s Csuja Imre JÃ¡s
 zai Mari-dÃ­jas szÃ­nmÅ±vÃ©sz\, Ã©rdemes mÅ±vÃ©sz.
LOCATION:Budapest\, PIM
CATEGORIES:Budapest,hÃ­r
CLASS:PUBLIC
END:VEVENT
END:VCALENDAR
