BEGIN:VCALENDAR
PRODID:-//AT Content Types//AT Event//EN
VERSION:1.0
BEGIN:VEVENT
DTSTART:20100902T085000Z
DTEND:20101002T155000Z
DCREATED:20100902T085152Z
UID:ATEvent-e019010606d57895a57d86aaa375db80
SEQUENCE:0
LAST-MODIFIED:20100902T085324Z
SUMMARY:A vilÃ¡g elhanyagolt sarkai
DESCRIPTION:Bukta Imre\, CsikÃ³s-Nagy Zsuzsanna Ã©s Rachel Sussman kiÃ
 ¡llÃ­tÃ¡sa a 2B GalÃ©riÃ¡ban
LOCATION:Budapest\, 2B GalÃ©ria
PRIORITY:3
TRANSP:0
END:VEVENT
END:VCALENDAR
