BEGIN:VCALENDAR
PRODID:-//AT Content Types//AT Event//EN
VERSION:2.0
METHOD:PUBLISH
BEGIN:VEVENT
DTSTAMP:20260421T160109Z
CREATED:20140418T120416Z
UID:ATEvent-c489591c567f05e67082a7c7df506d8b
LAST-MODIFIED:20140418T120658Z
SUMMARY:A Szent Efrém Férfikar és Marie Keyrouz nővér húsvéti koncertje
DTSTART:20140423T180000Z
DTEND:20140423T192000Z
DESCRIPTION:Szent István bazilika\, 2014. április 23.
LOCATION:Budapest
CATEGORIES:hír
CLASS:PUBLIC
END:VEVENT
END:VCALENDAR
