BEGIN:VCALENDAR
PRODID:-//AT Content Types//AT Event//EN
VERSION:1.0
BEGIN:VEVENT
DTSTART:20171108T082500Z
DTEND:20171130T192500Z
DCREATED:20171108T092549Z
UID:ATEvent-32e10d32eddb7d3132e508cb3c12c4fc
SEQUENCE:0
LAST-MODIFIED:20171110T195854Z
SUMMARY:A Petőfi Irodalmi Múzeum novemberi rendezvényei
DESCRIPTION:Irodalom\, könyvbemutató\, kiállítás\, felolvasás. S
 zínes programok novemberben is a Petőfi Irodalmi Múzeumban.
LOCATION:Budapest\, PIM
PRIORITY:3
TRANSP:0
END:VEVENT
END:VCALENDAR
