BEGIN:VCALENDAR
PRODID:-//AT Content Types//AT Event//EN
VERSION:2.0
METHOD:PUBLISH
BEGIN:VEVENT
DTSTAMP:20260424T215206Z
CREATED:20131202T135948Z
UID:ATEvent-25cd18d0a129ccd9ebbc2490aecfa8f2
LAST-MODIFIED:20131202T140232Z
SUMMARY:A PetÅ‘fi Irodalmi MÃºzeum decemberi programjai
DTSTART:20131202T120000Z
DTEND:20131223T170000Z
DESCRIPTION:KiÃ¡llÃ­tÃ¡sokkal\, felolvasÃ¡sokkal Ã©s irodalmi rendezvÃ
 ©nyekkel vÃ¡rja az Ã©rdeklÅ‘dÅ‘ket a PetÅ‘fi Irodalmi MÃºzeum
LOCATION:Budapest\, PIM
CATEGORIES:hÃ­r
CLASS:PUBLIC
END:VEVENT
END:VCALENDAR
