BEGIN:VCALENDAR
PRODID:-//AT Content Types//AT Event//EN
VERSION:1.0
BEGIN:VEVENT
DTSTART:20120825T181000Z
DTEND:20120825T192000Z
DCREATED:20120813T101502Z
UID:ATEvent-10224c5ef3eb36f1dc01373bf538fcb9
SEQUENCE:0
LAST-MODIFIED:20120813T101658Z
SUMMARY:A Magyar Virtuózok és Bán István közös koncertje
DESCRIPTION:Augusztus 25-én a Budavári Evangélikus templomban Bán 
 István orgonaművész házigazdaként és vendégművészeként fogad
 ja az együttest.
LOCATION:Budapest
PRIORITY:3
TRANSP:0
END:VEVENT
END:VCALENDAR
