BEGIN:VCALENDAR
PRODID:-//AT Content Types//AT Event//EN
VERSION:2.0
METHOD:PUBLISH
BEGIN:VEVENT
DTSTAMP:20260421T064359Z
CREATED:20180301T102514Z
UID:ATEvent-c92306d1c9553231ce7109e7dacb0948
LAST-MODIFIED:20180328T080200Z
SUMMARY:25. Budapesti Nemzetközi Könyvfesztivál
DTSTART:20180419T082500Z
DTEND:20180422T202500Z
DESCRIPTION:Az immáron 25. alkalommal megrendezésre kerülő Budapes
 ti Nemzetközi Könyvfesztivál a nemzetközi könyves világ jegyzett
  eseménye\, a térség meghatározó szakmai és kulturális fóruma.
 
LOCATION:Budapest
CATEGORIES:Budapest,hír
CLASS:PUBLIC
END:VEVENT
END:VCALENDAR
