BEGIN:VCALENDAR
PRODID:-//AT Content Types//AT Event//EN
VERSION:1.0
BEGIN:VEVENT
DTSTART:20160421T130000Z
DTEND:20160424T193000Z
DCREATED:20160317T152837Z
UID:ATEvent-ed02aa6d24c8523377a1903bd003bb39
SEQUENCE:0
LAST-MODIFIED:20160317T153120Z
SUMMARY:23. BUDAPESTI NEMZETKÖZI KÖNYVFESZTIVÁL
DESCRIPTION:Millenáris\, 2016. április 21–24. Díszvendég-író 2
 016-ban\: Jostein Gaarder.
LOCATION:Budapest
PRIORITY:3
TRANSP:0
END:VEVENT
END:VCALENDAR
