BEGIN:VCALENDAR
PRODID:-//AT Content Types//AT Event//EN
VERSION:2.0
METHOD:PUBLISH
BEGIN:VEVENT
DTSTAMP:20260426T014901Z
CREATED:20090826T094737Z
UID:ATEvent-ec920be2c542479161ae37c9bea75637
LAST-MODIFIED:20091003T191759Z
SUMMARY:Vinczellér Imre kiállítása
DTSTART:20090913T090000Z
DTEND:20091011T160000Z
DESCRIPTION:Október 11-ig
LOCATION:Kalocsa
CATEGORIES:hír,kiállítás
CONTACT:Vinczellér Imre honlapja
URL:http://vinczellerimre.hu
CLASS:PUBLIC
END:VEVENT
END:VCALENDAR
