BEGIN:VCALENDAR
PRODID:-//AT Content Types//AT Event//EN
VERSION:1.0
BEGIN:VEVENT
DTSTART:20090925T120000Z
DTEND:20090925T130000Z
DCREATED:20090921T185356Z
UID:ATEvent-8bf2f1308d4dc7da04a195b536180665
SEQUENCE:0
LAST-MODIFIED:20090921T185416Z
SUMMARY:Sztehlo szobor avatás a Deák téren
DESCRIPTION:Sztéhlo Gábor szobrát 2009. szeptember 25-én avatják 
 fel Budapesten a Deák Ferenc téren
LOCATION:Budapest
PRIORITY:3
TRANSP:0
END:VEVENT
END:VCALENDAR
