BEGIN:VCALENDAR
PRODID:-//AT Content Types//AT Event//EN
VERSION:1.0
BEGIN:VEVENT
DTSTART:20090522T150000Z
DTEND:20090522T160000Z
DCREATED:20090515T092637Z
UID:ATEvent-0838756bd684b3e323faf7e11c479559
SEQUENCE:0
LAST-MODIFIED:20090515T093147Z
SUMMARY:Spiró György új könyvének bemutatója
DESCRIPTION:Spiró György - Feleségverseny
LOCATION:Bp\, Petőfi Irodalmi Múzeum
PRIORITY:3
TRANSP:0
END:VEVENT
END:VCALENDAR
