BEGIN:VCALENDAR
PRODID:-//AT Content Types//AT Event//EN
VERSION:1.0
BEGIN:VEVENT
DTSTART:20090701T160000Z
DTEND:20090701T173000Z
DCREATED:20090627T101326Z
UID:ATEvent-6a5145dcf85e03bb8070c1a17250ed3f
SEQUENCE:0
LAST-MODIFIED:20090627T101427Z
SUMMARY:kiállításmegnyitó\: Pannonhalmi Zsuzsa keramikusművész
LOCATION:Budapest
PRIORITY:3
TRANSP:0
END:VEVENT
END:VCALENDAR
