BEGIN:VCALENDAR
PRODID:-//AT Content Types//AT Event//EN
VERSION:2.0
METHOD:PUBLISH
BEGIN:VEVENT
DTSTAMP:20260425T222228Z
CREATED:20090611T172724Z
UID:ATEvent-e360eb999816c8f0b06a988ca1d9aea6
LAST-MODIFIED:20090611T173112Z
SUMMARY:Múzeumok éjszakája
DTSTART:20090620T160000Z
DTEND:20090621T040000Z
LOCATION:országos
CATEGORIES:hír,kiállítás
CONTACT:Múzeumok éjszakája
URL:http://muzeumokejszakaja.hu
CLASS:PUBLIC
END:VEVENT
END:VCALENDAR
