BEGIN:VCALENDAR
PRODID:-//AT Content Types//AT Event//EN
VERSION:1.0
BEGIN:VEVENT
DTSTART:20090428T180000Z
DTEND:20090428T201000Z
DCREATED:20090428T091237Z
UID:ATEvent-95dbabb1166f51e1f326cbd7845fa133
SEQUENCE:0
LAST-MODIFIED:20090428T091429Z
SUMMARY:MispÃ¡l Attila - A fÃ©ny Ã¶svÃ©nyei
DESCRIPTION:KortÃ¡rs Magyar Filmklub a Pilinszky JÃ¡nos Irodalmi KÃ¡vÃ
 ©hÃ¡zban
LOCATION:Budapest
PRIORITY:3
TRANSP:0
END:VEVENT
END:VCALENDAR
