BEGIN:VCALENDAR
PRODID:-//AT Content Types//AT Event//EN
VERSION:2.0
METHOD:PUBLISH
BEGIN:VEVENT
DTSTAMP:20260426T013502Z
CREATED:20090209T213749Z
UID:ATEvent-f74c58615b531532f59b0dfcb0af1748
LAST-MODIFIED:20090209T213956Z
SUMMARY:könyvbemutató - Alternatív globalizáció a népekért és a földért
DTSTART:20090217T160000Z
DTEND:20090217T173000Z
DESCRIPTION:A Luther Kiadó és a Védegylet közös kiadványa
LOCATION:Budapest\, Pilinszky János Irodalmi Kávéház
CATEGORIES:Budapest,hír
CLASS:PUBLIC
END:VEVENT
END:VCALENDAR
