BEGIN:VCALENDAR
PRODID:-//AT Content Types//AT Event//EN
VERSION:2.0
METHOD:PUBLISH
BEGIN:VEVENT
DTSTAMP:20260425T191712Z
CREATED:20090611T154110Z
UID:ATEvent-d497e954db0456af80b1eeecb3e4fa6d
LAST-MODIFIED:20090611T154500Z
SUMMARY:Kiállításmegnyitó\: Rések az időben - rések a térben
DTSTART:20090612T130000Z
DTEND:20090612T160000Z
DESCRIPTION:Anna Frank 80 éves
LOCATION:Budapest
CATEGORIES:Budapest,hír,kiállítás
CONTACT:Galéria IX\, 456 05 35
CLASS:PUBLIC
END:VEVENT
END:VCALENDAR
