BEGIN:VCALENDAR
PRODID:-//AT Content Types//AT Event//EN
VERSION:1.0
BEGIN:VEVENT
DTSTART:20090616T160000Z
DTEND:20090616T173000Z
DCREATED:20090614T102830Z
UID:ATEvent-dbc3c98eec13f46b5fba3ee1c1134690
SEQUENCE:0
LAST-MODIFIED:20090621T121136Z
SUMMARY:Matzon Ákos kiállítása
LOCATION:Budapest
PRIORITY:3
TRANSP:0
END:VEVENT
END:VCALENDAR
