BEGIN:VCALENDAR
PRODID:-//AT Content Types//AT Event//EN
VERSION:2.0
METHOD:PUBLISH
BEGIN:VEVENT
DTSTAMP:20260425T160334Z
CREATED:20090308T132703Z
UID:ATEvent-a971c9ec67a2278e56359d27eee34366
LAST-MODIFIED:20090308T132822Z
SUMMARY:kiállítás - Cziráki Lajos rajzművészete
DTSTART:20090321T090000Z
DTEND:20090321T170000Z
LOCATION:Győr\, Magyar Ispita
CONTACT:Városi Művészeti Múzeum
URL:http://www.artmuz.hu
CLASS:PUBLIC
END:VEVENT
END:VCALENDAR
