BEGIN:VCALENDAR
PRODID:-//AT Content Types//AT Event//EN
VERSION:1.0
BEGIN:VEVENT
DTSTART:20091001T160000Z
DTEND:20091001T170000Z
DCREATED:20090929T043623Z
UID:ATEvent-30d73d76ddb9fd3619f91876c294f521
SEQUENCE:0
LAST-MODIFIED:20090929T044410Z
SUMMARY:Bodor Lilla „Tonsóra hangolva” című kiállítása
LOCATION:Budapest
PRIORITY:3
TRANSP:0
END:VEVENT
END:VCALENDAR
