BEGIN:VCALENDAR
PRODID:-//AT Content Types//AT Event//EN
VERSION:1.0
BEGIN:VEVENT
DTSTART:20080818T100500Z
DTEND:20080912T160000Z
DCREATED:20080818T102152Z
UID:ATEvent-a3718342552c00703696971e132472c5
SEQUENCE:0
LAST-MODIFIED:20080908T113734Z
SUMMARY:Bibliák
DESCRIPTION:"Próféták által szólt régen néked az Isten"
LOCATION:Egyetemi Könyvtár - Budapest
PRIORITY:3
TRANSP:0
END:VEVENT
END:VCALENDAR
