BEGIN:VCALENDAR
PRODID:-//AT Content Types//AT Event//EN
VERSION:2.0
METHOD:PUBLISH
BEGIN:VEVENT
DTSTAMP:20260426T013822Z
CREATED:20091007T074648Z
UID:ATEvent-32fa2798c3384712ea2fb0157154704e
LAST-MODIFIED:20091007T074921Z
SUMMARY:Az emberi fejlődés távlatai
DTSTART:20091014T063000Z
DTEND:20091014T143000Z
DESCRIPTION:Meghívó XVI. Benedek pápa Caritas in veritate szociáli
 s enciklikájáról szóló tudományos konferenciára
LOCATION:Budapest
CATEGORIES:Budapest,hír
CONTACT:MKPK Iustitia et Pax Bizottság\, 30/371 6012\, justitia@mail.inext.hu
CLASS:PUBLIC
END:VEVENT
END:VCALENDAR
